BEGIN:VCALENDAR
VERSION:2.0
PRODID:-//Cherhill Branch No. 184 - ECPv6.15.17//NONSGML v1.0//EN
CALSCALE:GREGORIAN
METHOD:PUBLISH
X-WR-CALNAME:Cherhill Branch No. 184
X-ORIGINAL-URL:https://www.cherhill184.ca
X-WR-CALDESC:Events for Cherhill Branch No. 184
REFRESH-INTERVAL;VALUE=DURATION:PT1H
X-Robots-Tag:noindex
X-PUBLISHED-TTL:PT1H
BEGIN:VTIMEZONE
TZID:America/Edmonton
BEGIN:DAYLIGHT
TZOFFSETFROM:-0700
TZOFFSETTO:-0600
TZNAME:MDT
DTSTART:20180311T090000
END:DAYLIGHT
BEGIN:STANDARD
TZOFFSETFROM:-0600
TZOFFSETTO:-0700
TZNAME:MST
DTSTART:20181104T080000
END:STANDARD
BEGIN:DAYLIGHT
TZOFFSETFROM:-0700
TZOFFSETTO:-0600
TZNAME:MDT
DTSTART:20190310T090000
END:DAYLIGHT
BEGIN:STANDARD
TZOFFSETFROM:-0600
TZOFFSETTO:-0700
TZNAME:MST
DTSTART:20191103T080000
END:STANDARD
BEGIN:DAYLIGHT
TZOFFSETFROM:-0700
TZOFFSETTO:-0600
TZNAME:MDT
DTSTART:20200308T090000
END:DAYLIGHT
BEGIN:STANDARD
TZOFFSETFROM:-0600
TZOFFSETTO:-0700
TZNAME:MST
DTSTART:20201101T080000
END:STANDARD
END:VTIMEZONE
BEGIN:VEVENT
DTSTART;TZID=America/Edmonton:20190404T140000
DTEND;TZID=America/Edmonton:20190403T180000
DTSTAMP:20260421T154826
CREATED:20190406T015205Z
LAST-MODIFIED:20190406T015205Z
UID:141-1554386400-1554314400@www.cherhill184.ca
SUMMARY:Monthly Meeting
DESCRIPTION:
URL:https://www.cherhill184.ca/event/monthly-meeting/
LOCATION:Cherhill Legion
END:VEVENT
END:VCALENDAR